BEGIN:VCALENDAR
VERSION:2.0
PRODID:-//European Business Confucius Institute - ECPv5.2.1//NONSGML v1.0//EN
CALSCALE:GREGORIAN
METHOD:PUBLISH
X-WR-CALNAME:European Business Confucius Institute
X-ORIGINAL-URL:https://ebci.eu
X-WR-CALDESC:Events for European Business Confucius Institute
BEGIN:VTIMEZONE
TZID:UTC
BEGIN:STANDARD
TZOFFSETFROM:+0000
TZOFFSETTO:+0000
TZNAME:UTC
DTSTART:20200101T000000
END:STANDARD
END:VTIMEZONE
BEGIN:VEVENT
DTSTART;TZID=UTC:20200127T180000
DTEND;TZID=UTC:20200127T210000
DTSTAMP:20260421T155228
CREATED:20210217T203650Z
LAST-MODIFIED:20210226T213552Z
UID:2653-1580148000-1580158800@ebci.eu
SUMMARY:CHINESE NEW YEAR 2020
DESCRIPTION:This event is jointly organized by ESCP Chine and EBCI\, aiming to bring our French boots together to celebrate the Chinese New Year\, and to promote Chinese traditional culture to the outside world during the Chinese New Year.
URL:https://ebci.eu/event/chinese-new-year-2020/
LOCATION:ESCP Business School\, ESCP Business School\, 79 Avenue de la République\, Paris\, France\, 75011\, France
CATEGORIES:Festival
ATTACH;FMTTYPE=image/jpeg:https://ebci.eu/wp-content/uploads/_20210217211841-1.jpg
ORGANIZER;CN="European%20Business%20Confucius%20Institute":MAILTO:ebci@escp.eu
END:VEVENT
END:VCALENDAR