BEGIN:VCALENDAR
VERSION:2.0
PRODID:-//European Business Confucius Institute - ECPv5.2.1//NONSGML v1.0//EN
CALSCALE:GREGORIAN
METHOD:PUBLISH
X-WR-CALNAME:European Business Confucius Institute
X-ORIGINAL-URL:https://ebci.eu
X-WR-CALDESC:Events for European Business Confucius Institute
BEGIN:VTIMEZONE
TZID:UTC
BEGIN:STANDARD
TZOFFSETFROM:+0000
TZOFFSETTO:+0000
TZNAME:UTC
DTSTART:20190101T000000
END:STANDARD
END:VTIMEZONE
BEGIN:VEVENT
DTSTART;TZID=UTC:20190906T180000
DTEND;TZID=UTC:20190906T220000
DTSTAMP:20260422T002033
CREATED:20190901T100043Z
LAST-MODIFIED:20200611T082932Z
UID:2158-1567792800-1567807200@ebci.eu
SUMMARY:Business Drivers in China and Europe: Two lives\, One destiny
DESCRIPTION:Crossroads of experience\nThe conference aims to tackle the crossroads of experience and innovation and to provide the audience with a platform to communicate face to face and explore new ideas.
URL:https://ebci.eu/event/business-drivers-in-china-and-europe-two-lives-one-destiny/
LOCATION:ESCP Business School\, ESCP Business School\, 79 Avenue de la République\, Paris\, France\, 75011\, France
CATEGORIES:Conference
ATTACH;FMTTYPE=image/jpeg:https://ebci.eu/wp-content/uploads/europe-chine-flag.jpg
ORGANIZER;CN="European%20Business%20Confucius%20Institute":MAILTO:ebci@escp.eu
END:VEVENT
END:VCALENDAR