BEGIN:VCALENDAR
VERSION:2.0
PRODID:-//European Business Confucius Institute - ECPv5.2.1//NONSGML v1.0//EN
CALSCALE:GREGORIAN
METHOD:PUBLISH
X-WR-CALNAME:European Business Confucius Institute
X-ORIGINAL-URL:https://ebci.eu
X-WR-CALDESC:Events for European Business Confucius Institute
BEGIN:VTIMEZONE
TZID:Europe/Paris
BEGIN:DAYLIGHT
TZOFFSETFROM:+0100
TZOFFSETTO:+0200
TZNAME:CEST
DTSTART:20190331T010000
END:DAYLIGHT
BEGIN:STANDARD
TZOFFSETFROM:+0200
TZOFFSETTO:+0100
TZNAME:CET
DTSTART:20191027T010000
END:STANDARD
END:VTIMEZONE
BEGIN:VEVENT
DTSTART;TZID=Europe/Paris:20190610T180000
DTEND;TZID=Europe/Paris:20190610T210000
DTSTAMP:20260422T061346
CREATED:20190513T100001Z
LAST-MODIFIED:20200611T082708Z
UID:2460-1560189600-1560200400@ebci.eu
SUMMARY:Opening of the European Business Confucius Institute
DESCRIPTION:The Franco-Chinese high-level dialogue\nOn 24 November 2017\, on the occasion of the Franco-Chinese high-level dialogue on people to people exchanges session in Beijing\, attended by French Minister Jean-Yves Le Drian and Chinese Vice Premier Liu Yandong\, Etienne Guyot\, Chief Executive of the Paris Île-de-France Chamber of Commerce and Industry\, signed on behalf of ESCP an agreement with Hanban\, the Office of Chinese Language Council International\, establishing the European Business Confucius Institute – EBCI.
URL:https://ebci.eu/event/opening-of-the-european-business-confucius-institute/
LOCATION:ESCP Business School\, ESCP Business School\, 79 Avenue de la République\, Paris\, France\, 75011\, France
CATEGORIES:Ceremony
ATTACH;FMTTYPE=image/jpeg:https://ebci.eu/wp-content/uploads/2020/04/escp-sky-vue-dan-tsantilis.jpeg
END:VEVENT
END:VCALENDAR