BEGIN:VCALENDAR
VERSION:2.0
PRODID:-//European Business Confucius Institute - ECPv5.2.1//NONSGML v1.0//EN
CALSCALE:GREGORIAN
METHOD:PUBLISH
X-WR-CALNAME:European Business Confucius Institute
X-ORIGINAL-URL:https://ebci.eu
X-WR-CALDESC:Events for European Business Confucius Institute
BEGIN:VTIMEZONE
TZID:UTC
BEGIN:STANDARD
TZOFFSETFROM:+0000
TZOFFSETTO:+0000
TZNAME:UTC
DTSTART:20210101T000000
END:STANDARD
END:VTIMEZONE
BEGIN:VEVENT
DTSTART;TZID=UTC:20210213T000000
DTEND;TZID=UTC:20210213T170000
DTSTAMP:20260420T183234
CREATED:20210217T205901Z
LAST-MODIFIED:20210226T213352Z
UID:2669-1613174400-1613235600@ebci.eu
SUMMARY:Fundraising Activity 2020
DESCRIPTION:It is a traditional virtue of the Chinese people that “when one side is in trouble\, all sides support each other”. EBCI and ESCP Chine launched a fundraising campaign to fight against coronavirus with the aim of asking all caring people to lend a helping hand to help the health care workers who are fighting against the virus and the patients who are troubled by the virus.
URL:https://ebci.eu/event/fundraising-activity/
LOCATION:ESCP Business School\, ESCP Business School\, 79 Avenue de la République\, Paris\, France\, 75011\, France
CATEGORIES:Fundraising
ATTACH;FMTTYPE=image/png:https://ebci.eu/wp-content/uploads/escp-chine-fundaraising-page.png
ORGANIZER;CN="European%20Business%20Confucius%20Institute":MAILTO:ebci@escp.eu
END:VEVENT
END:VCALENDAR